BEGIN:VCALENDAR
VERSION:2.0
PRODID:-//Paulo Nogueira Terapias - ECPv6.0.5//NONSGML v1.0//EN
CALSCALE:GREGORIAN
METHOD:PUBLISH
X-WR-CALNAME:Paulo Nogueira Terapias
X-ORIGINAL-URL:https://www.paulonogueiraterapias.com
X-WR-CALDESC:Events for Paulo Nogueira Terapias
REFRESH-INTERVAL;VALUE=DURATION:PT1H
X-Robots-Tag:noindex
X-PUBLISHED-TTL:PT1H
BEGIN:VTIMEZONE
TZID:UTC
BEGIN:STANDARD
TZOFFSETFROM:+0000
TZOFFSETTO:+0000
TZNAME:UTC
DTSTART:20260101T000000
END:STANDARD
END:VTIMEZONE
BEGIN:VEVENT
DTSTART;TZID=UTC:20260328T100000
DTEND;TZID=UTC:20260329T180000
DTSTAMP:20260421T100411
CREATED:20230101T145639Z
LAST-MODIFIED:20251229T015728Z
UID:10000012-1774692000-1774807200@www.paulonogueiraterapias.com
SUMMARY:Curso TMD em Braga
DESCRIPTION:O próximo Curso de Terapia Multidimensional em Braga\, ao fim-de-semana já está agendado e você não pode perder esta oportunidade de se formar com um formador que já formou mais de 1000 terapeutas multidimensionais de norte a sul do país! \nConsulte o programa do curso e faça já a sua inscrição antes que as vagas esgotem! \nInscrição no Curso de Terapia MultidimensionalPlease enable JavaScript in your browser to complete this form.Nome *Telefone *Email *CidadeLisboaPortoBragaVila Nova de GaiaSoure\, CoimbraFaroSanto TirsoOnlineObservaçõesInscrever
URL:https://www.paulonogueiraterapias.com/evento/curso-terapia-multidimensional-em-braga/
LOCATION:Espaço Yoga Braga\, Av João XXI nº 667 RC\, Braga\, Braga\, 4715-035\, Portugal
ATTACH;FMTTYPE=image/jpeg:https://www.paulonogueiraterapias.com/wp-content/uploads/2023/01/Curso-de-Terapia-Multidimensional-em-Braga-scaled.jpg
END:VEVENT
END:VCALENDAR